BEGIN:VCALENDAR
VERSION:2.0
PRODID:-//Rokeby Museum - ECPv6.15.17.1//NONSGML v1.0//EN
CALSCALE:GREGORIAN
METHOD:PUBLISH
X-ORIGINAL-URL:https://rokeby.org
X-WR-CALDESC:Events for Rokeby Museum
REFRESH-INTERVAL;VALUE=DURATION:PT1H
X-Robots-Tag:noindex
X-PUBLISHED-TTL:PT1H
BEGIN:VTIMEZONE
TZID:America/New_York
BEGIN:DAYLIGHT
TZOFFSETFROM:-0500
TZOFFSETTO:-0400
TZNAME:EDT
DTSTART:20240310T070000
END:DAYLIGHT
BEGIN:STANDARD
TZOFFSETFROM:-0400
TZOFFSETTO:-0500
TZNAME:EST
DTSTART:20241103T060000
END:STANDARD
BEGIN:DAYLIGHT
TZOFFSETFROM:-0500
TZOFFSETTO:-0400
TZNAME:EDT
DTSTART:20250309T070000
END:DAYLIGHT
BEGIN:STANDARD
TZOFFSETFROM:-0400
TZOFFSETTO:-0500
TZNAME:EST
DTSTART:20251102T060000
END:STANDARD
BEGIN:DAYLIGHT
TZOFFSETFROM:-0500
TZOFFSETTO:-0400
TZNAME:EDT
DTSTART:20260308T070000
END:DAYLIGHT
BEGIN:STANDARD
TZOFFSETFROM:-0400
TZOFFSETTO:-0500
TZNAME:EST
DTSTART:20261101T060000
END:STANDARD
END:VTIMEZONE
BEGIN:VEVENT
DTSTART;TZID=America/New_York:20250702T123000
DTEND;TZID=America/New_York:20250702T130000
DTSTAMP:20260420T050329
CREATED:20250625T151413Z
LAST-MODIFIED:20250625T153722Z
UID:10000069-1751459400-1751461200@rokeby.org
SUMMARY:“Inspired by Nature” Gallery Talk
DESCRIPTION:Are you interested in curation? Have you ever wondered how a museum builds its exhibit?  \n\n\n\n\nJoin Rokeby Museum’s Interim Director Joan Gorman for a talk on how Rokeby constructed its newest exhibit\, Inspired by Nature: The Women Artists of Rokeby.  \n\n\n\nThe talk will be held in the gallery at Rokeby Museum. We are offering multiple dates throughout the season for you to peek behind the curtain and ask questions.  \n\n\n\n\n\n\n\nGallery Talk Dates\n\n\n\nWednesday\, July 2ndWednesday\, July 30thMonday\, August 25thMonday\, September 15th \n\n\n\nStop by during our normal hours to experience the exhibit yourself before peeking behind the curtain. \n\n\n\n\n\n\n\n\n			\n				\n			\n		\n\n\n\n 
URL:https://rokeby.org/event/inspired-by-nature-gallery-talk-1/
CATEGORIES:“Inspired by Nature” Gallery Talk,art,exhibition,free,series,talk
ATTACH;FMTTYPE=image/jpeg:https://rokeby.org/wp-content/uploads/2025/06/JOAN_IBN_GALLERY_TALK.jpg
END:VEVENT
BEGIN:VEVENT
DTSTART;TZID=America/New_York:20250730T123000
DTEND;TZID=America/New_York:20250730T130000
DTSTAMP:20260420T050329
CREATED:20250625T151428Z
LAST-MODIFIED:20250625T153630Z
UID:10000070-1753878600-1753880400@rokeby.org
SUMMARY:“Inspired by Nature” Gallery Talk
DESCRIPTION:Are you interested in curation? Have you ever wondered how a museum builds its exhibit?  \n\n\n\n\nJoin Rokeby Museum’s Interim Director Joan Gorman for a talk on how Rokeby constructed its newest exhibit\, Inspired by Nature: The Women Artists of Rokeby.  \n\n\n\nThe talk will be held in the gallery at Rokeby Museum. We are offering multiple dates throughout the season for you to peek behind the curtain and ask questions.  \n\n\n\n\n\n\n\nGallery Talk Dates\n\n\n\nWednesday\, July 2ndWednesday\, July 30thMonday\, August 25thMonday\, September 15th \n\n\n\nStop by during our normal hours to experience the exhibit yourself before peeking behind the curtain. 
URL:https://rokeby.org/event/inspired-by-nature-gallery-talk-2/
CATEGORIES:“Inspired by Nature” Gallery Talk,art,exhibition,free,series,talk
ATTACH;FMTTYPE=image/jpeg:https://rokeby.org/wp-content/uploads/2025/06/JOAN_IBN_GALLERY_TALK.jpg
END:VEVENT
END:VCALENDAR